Workbook
Name ｃｈｋ: '[1]【申込提出用】Gift Show 2018出展申込書'!#REF!
Name 会社: '[1]【申込提出用】Gift Show 2018出展申込書'!#REF!
Name 業種: '[1]【申込提出用】Gift Show 2018出展申込書'!#REF!
Name 月: '[1]【申込提出用】Gift Show 2018出展申込書'!#REF!
Name 中小機構: '[2]【申込提出用】Gift Show 2022 出展申込書'!#REF!
Name 日: '[1]【申込提出用】Gift Show 2018出展申込書'!#REF!

Sheet 【提出用】出展申込書
A1: 「AGRA2022（ゴルニャ・ラドゴナ国際農業・食品フェア）」 日本パビリオン申込書
A5: ＜申込書作成にあたっての注意事項＞ 申込書は、全ての記入項目（下線及び枠内）を具体的にご記入ください。 申込書に記入漏れがある場合は、出展審査の対象から外れる場合があります。
A10: 1． | C10: 出展申込に関する同意
A12: 「AGRA2022 ENTRY FORM AND AGREEMENT」、「申込書（本書）」に記載された全ての事項および、
A13: 上記書面内記載「EXHIBITION CONDITIONS」、「日本パビリオン 出展のご案内」記載内容に同意いたします。
C15: 申込日 | O15: ： | P15: 2022 | V15: 年 | AB15: 月 | AH15: 日
C17: 企業名 | O17: ：
C19: 氏名（代表者） | O19: ：
A23: 2． | C23: 出展手続きご担当者
A24: 展示会のご担当者名（出展に関わる手続き、その他の連絡窓口として事務対応していただける方）をご記入ください。 事務局からの連絡・発送物は全て、展示会のご担当者様宛となります。また、メールアドレスは必ずご記入ください。
A30: 担当者情報 | I30: ふりがな
I32: 氏名
I35: 部署
BG36: FALSE
I38: 役職
A41: 担当者連絡先 | I41: 郵便番号 | X41: －
I43: 都道府県
I45: 市区町村以下詳細
I48: TEL | Y48: － | AI48: － | BG48: FALSE
I50: FAX（任意） | Y50: － | AI50: －
A52: Eメールアドレス（必須） ※キャリアメールアドレス不可
A56: ３． | C56: 出展企業／出展製品・商品PRについて
A58: （１）企業PR （150文字以内）
A59: 会社としての歩み、事業内容、技術力、主力商品紹介などを交え、貴社全体の企業PRをご記入ください。
AL60: ="現在の文字数は "&LEN(A61)&" 文字です" -> 現在の文字数は 0 文字です
A66: （２）代表する出展製品・商品名
AL67: ="現在の文字数は "&LEN(Q68)&" 文字です" -> 現在の文字数は 0 文字です
A68: 代表する 出展製品・商品名 | I68: 日本語（30文字）
AL71: ="現在の文字数は "&LEN(Q72)&" 文字です" -> 現在の文字数は 0 文字です
I72: 英語（70文字）
A76: （３）出展製品・商品の欧州への輸出実績
A77: 出展予定製品・商品の欧州への輸出実績について、該当するものにチェックをつけてください。
E79: 輸出実績あり | BG79: FALSE
E80: 輸出実績なし | BG80: FALSE
E81: ある場合（実績国を記載） | BG81: FALSE
A85: （４）出展製品・商品のPR （１５０文字以内）
A86: 出展製品・商品について、特長、こだわり、他社より優れているところ、おすすめポイントなどをご記入ください。来場者（バイヤー）の興味を引くような内容としてください。
AL88: ="現在の文字数は "&LEN(A89)&" 文字です" -> 現在の文字数は 0 文字です
A94: （５）安全性について （２００文字以内）
A95: 出展製品・商品について、素材等の安全面のこだわりや、トレーサビリティ、取得した規格・認証等についてご記入ください。
AL96: ="現在の文字数は "&LEN(A97)&" 文字です" -> 現在の文字数は 0 文字です
A103: （６）出展製品・商品の国内価格（上代）および卸価格（下代）をご記入ください。※参考にさせていただきます。
A105: 希望小売価格（上代） | U105: 円 | AH105: 卸価格（下代） | AQ105: 円
A108: （７）出展製品・商品の最終消費者のターゲット像と、その消費者がどういった場面で使用すると想定しているかをご記入ください。また、期待する取引先と、その取引先とのマッチングイメージについてご記入ください。
A111: 最終消費者ターゲット像
A112: 想定する利用シーン
A113: ① | C113: 期待する取引先
C114: マッチングイメージ
A117: ② | C117: 期待する取引先
C118: マッチングイメージ
A122: （８）出展製品・商品の販売計画についてご記入ください。
A124: いつまでに | L124: ： | M124: （西暦） | U124: 年 | Y124: 月
A125: 目標とする取引先数 | L125: ： | AC125: 社
A126: 販売見込み額 | L126: ： | AC126: 万円
A128: 上記を実現するための展示会出展後の営業活動
A134: ４． | C134: ブースの展開方法、来場者への訴求方法等について （開催当日の実際の展示内容は変更可能です。）
A136: （１）ブースの展開方法、来場者への訴求方法について、実施する予定のものにチェックをつけてください。
E138: 試飲 | BG138: FALSE
E139: 試食 | BG139: FALSE
E140: その他（右に記入）→ | BG140: FALSE
A143: （２）試飲・試食には加熱調理等を行いますか。
E145: 加熱しない | BG145: FALSE
E146: ブース内で加熱 | BG146: FALSE
A148: （３）簡単な調理が可能な実演ブースを備えた共用スペースにて、出展者プレゼンを希望しますか。 例）PowerPoint資料を使って商品説明をする。簡単に調理し、試食を提供する。等
E150: 希望する | BG150: FALSE
E151: 希望しない | BG151: FALSE
A154: ５． | C154: 応募目的・理由等について
A156: （１） 出展応募をした目的を下記よりお選びください。（複数回答可）
E158: １．海外販路の開拓 （バイヤーとの商談） | BG158: FALSE | BI158: １．国内販路の開拓 （バイヤーとの商談）
E159: ２．パートナー企業を見つけたい（販売提携、共同開発等） | BG159: FALSE | BI159: ２．パートナー企業を見つけたい（販売提携、共同開発等）
E160: ３．出展製品・商品の販売促進 | BG160: FALSE | BI160: ３．出展製品・商品の販売促進
E161: ４．出展製品・商品の市場調査・マーケティング | BG161: FALSE | BI161: ４．出展製品・商品の市場調査・マーケティング
E162: ５．企業PR（広告・宣伝）、自社の知名度の向上 | BG162: FALSE | BI162: ５．企業PR（広告・宣伝）、自社の知名度の向上
E163: ６．他の出展者との交流、ネットワーク構築 | BG163: FALSE | BI163: ６．他の出展者との交流、ネットワーク構築
E164: ７．業界動向の把握 | BG164: FALSE | BI164: ７．業界動向の把握
E165: ８．その他（右に記入）→ | BG165: FALSE | BI165: ８．その他（右に記入）→
A168: （２）展示会でのビジネスマッチングのターゲット（業界、業種）を以下からお選びください。（複数回答可）
E170: １．フードサービス（外食・中食） | BG170: FALSE | BI170: １．フードサービス（外食・中食）
E171: ２．小売（百貨店・専門店） | BG171: FALSE | BI171: ２．小売（百貨店・スーパーマーケット）
E172: ３．小売（コンビニエンスストア・ディスカウントストア・ドラッグストア） | BG172: FALSE | BI172: ３．小売（コンビニエンスストア・ディスカウントストア）
E173: ４．小売（スーパーマーケット） | BG173: FALSE | BI173: ４．小売（専門店）
E174: ５．通販・ネットスーパー | BG174: FALSE | BI174: ５．通販事業者
E175: ６．商社・卸 | BG175: FALSE | BI175: ６．商社・卸
E176: ７．食品・飲料メーカー/生産者 | BG176: FALSE | BI176: ７．食品メーカー
E177: ８．ホテル・旅館・レジャー施設 | BG177: FALSE | BI177: ８．ホテル・旅館・レジャー施設
E178: ９．その他（右に記入）→ | BG178: FALSE | BI178: ９．その他（右に記入）→
A181: （３）展示会への出展経験を教えてください。（複数回答可）
C183: 該当するもの全てを選択し、１．２．についてはその回数についてもお答えください。
D184: １．海外の展示会・見本市に出展したことがある | AW184: 回 | BG184: FALSE
D185: ２．国内展示会に出展したことがある | AW185: 回 | BG185: FALSE
D186: ３．展示会に出展したことがない | BG186: FALSE
A191: =出展申込書は以上です。Excelのまま申込フォームにアップロードをしてお申し込みください。=
A194: 【お問い合わせ先】
A196: 株式会社JTB ビジネスソリューション事業本部 第二事業部 グローバルビジネス推進課
A197: AGRA2022 日本パビリオン事務局 担当：戸田・岡崎・佐藤
A199: 電話番号 ：03-5909-8091 （平日９：３０～１７：３０）
A200: メールアドレス ：k_toda143@jtb.com/h_okazaki588@jtb.com/y_sato014@jtb.com
M201: （電子メールからの申し込みはできません）
A202: ※当事務局は、農林水産省より株式会社JTBが事務局業務を受託し運営しております。

Sheet 出展申込書【数式入り】
A1: ■AGRA2022（ゴルニャ・ラトゴナ国際農業・食品フェア）日本パビリオン 出展申込者データ反映
D2: 1/9 | AE2: 7/9 | AX2: 8/9
A3: NO | B3: 審査結果 | C3: 受付日 | D3: １．出展申込に関する同意 | W3: 3．出展製品・商品について | AQ3: 4．ブース展開方法、来場者への訴求方法 | AX3: 5．応募目的・理由等
D4: ①出展規約同意 | W4: (1)企業PR | X4: (2)代表する出展製品 ・商品名 | Z4: (3)出展製品・商品の欧州への輸出実績 | AA4: (4)出展製品・商品のPR | AB4: (5)安全性について | AC4: (6)出展製品・商品の国内価格（上代）および卸価格（下代） | AE4: (7)マッチングイメージ | AK4: (8)販売計画 | AQ4: (1)実施予定 | AT4: (2)加熱調理について | AV4: （3）出展者プレゼン | AX4: (1)応募目的 ※2つまで | BF4: (2)ターゲット ※3つまで | BO4: (3)出展経験回数
E5: 氏名 | F5: ふりがな | G5: 部署 | H5: 役職 | I5: 〒前半 | J5: 〒後半 | K5: 郵便番号 | L5: 都道府県 | M5: 市区町村 以下詳細 | N5: TEL前半 | O5: TEL中間 | P5: TEL後半 | Q5: TEL | R5: FAX前半 | S5: FAX中間 | T5: FAX後半 | U5: FAX | V5: Eメールアドレス ※必須・キャリアメール不可 | X5: 日本語 | Y5: 英語 | AC5: 希望小売価格（上代） | AD5: 卸価格（下代） | AE5: 最終消費者 ターゲット像 | AF5: 想定する利用シーン | AG5: 期待する取引先➀ | AH5: マッチングイメージ➀ | AI5: 期待する取引先➁ | AJ5: マッチングイメージ➁ | AK5: 西暦 | AL5: 月 | AM5: いつまでに | AN5: 目標取引先数(社） | AO5: 販売見込額（万） | AP5: 展示会出展後の営業活動 | AQ5: 試飲 | AR5: 試食 | AS5: その他 | AT5: しない | AU5: ブース内 | AV5: 希望する | AW5: 希望しない | AX5: ① 海外販路開拓 | AY5: ② ﾊﾟｰﾄﾅｰ企業探し（販売提携・共同開発等） | AZ5: ③ 販売促進 | BA5: ④ 市場調査・マーケティング | BB5: ⑤ 企業PR・知名度向上 | BC5: ⑥ 他社交流・ネットワーク構築 | BD5: ⑦ 業界動向把握 | BE5: ⑧その他（詳細） | BF5: ①フードサービス（外食・中食） | BG5: ②小売（百貨店・専門店） | BH5: ③小売（コンビニ・ディスカウントストア、ドラッグストア） | BI5: ④小売（スーパーマーケット） | BJ5: ⑤通販・ネットスーパー | BK5: ⑥商社・ 卸 | BL5: ⑦食品・飲料メーカー／生産者 | BM5: ⑧ホテル・旅館・レジャー施設 | BN5: ➈その他（詳細） | BO5: 海外の展示会・見本市に出展経験あり | BP5: 国内展示会に出展経験あり | BQ5: 展示会 出展経験なし
D6: =IF(【提出用】出展申込書!P19="","×","〇") -> × | E6: =【提出用】出展申込書!Q32 -> 0 | F6: =【提出用】出展申込書!Q30 -> 0 | G6: =【提出用】出展申込書!Q35 -> 0 | H6: =【提出用】出展申込書!Q38 -> 0 | I6: =【提出用】出展申込書!Q41 -> 0 | J6: =【提出用】出展申込書!AA41 -> 0 | K6: =I6&"-"&J6 -> 0-0 | L6: =【提出用】出展申込書!Q43 -> 0 | M6: =【提出用】出展申込書!Q45 -> 0 | N6: =【提出用】出展申込書!Q48 -> 0 | O6: =【提出用】出展申込書!AB48 -> 0 | P6: =【提出用】出展申込書!AL48 -> 0 | Q6: =N6&"-"&O6&"-"&P6 -> 0-0-0 | R6: =【提出用】出展申込書!Q50 -> 0 | S6: =【提出用】出展申込書!AB50 -> 0 | T6: =【提出用】出展申込書!AL50 -> 0 | U6: =R6&"-"&S6&"-"&T6 -> 0-0-0 | V6: =【提出用】出展申込書!Q52 -> 0 | W6: =【提出用】出展申込書!A61 -> 0 | X6: =【提出用】出展申込書!Q68 -> 0 | Y6: =【提出用】出展申込書!Q72 -> 0 | Z6: =【提出用】出展申込書!Q81 -> 0 | AA6: =【提出用】出展申込書!A89 -> 0 | AB6: =【提出用】出展申込書!A97 -> 0 | AC6: =【提出用】出展申込書!M105 -> 0 | AD6: =【提出用】出展申込書!AI105 -> 0 | AE6: =【提出用】出展申込書!L111 -> 0 | AF6: =【提出用】出展申込書!L112 -> 0 | AG6: =【提出用】出展申込書!L113 -> 0 | AH6: =【提出用】出展申込書!L114 -> 0 | AI6: =【提出用】出展申込書!L117 -> 0 | AJ6: =【提出用】出展申込書!L118 -> 0 | AK6: =【提出用】出展申込書!Q124 -> 0 | AL6: =【提出用】出展申込書!W124 -> 0 | AM6: =AK6&"/"&AL6 -> 0/0 | AN6: =【提出用】出展申込書!M125 -> 0 | AO6: =【提出用】出展申込書!M126 -> 0 | AP6: =【提出用】出展申込書!A129 -> 0 | AQ6: =IF(【提出用】出展申込書!BG138=TRUE,1,"") | AR6: =IF(【提出用】出展申込書!BG139=TRUE,1,"") | AS6: =IF(【提出用】出展申込書!BG140=TRUE,1,"") | AT6: =IF(【提出用】出展申込書!BG145=TRUE,1,"") | AU6: =IF(【提出用】出展申込書!BG146=TRUE,1,"") | AV6: =IF(【提出用】出展申込書!BG150=TRUE,1,"") | AW6: =IF(【提出用】出展申込書!BG151=TRUE,1,"") | AX6: =IF(【提出用】出展申込書!BG158=TRUE,1,"") | AY6: =IF(【提出用】出展申込書!BG159=TRUE,1,"") | AZ6: =IF(【提出用】出展申込書!BG160=TRUE,1,"") | BA6: =IF(【提出用】出展申込書!BG161=TRUE,1,"") | BB6: =IF(【提出用】出展申込書!BG162=TRUE,1,"") | BC6: =IF(【提出用】出展申込書!BG163=TRUE,1,"") | BD6: =IF(【提出用】出展申込書!BG164=TRUE,1,"") | BE6: =【提出用】出展申込書!Q165 -> 0 | BF6: =IF(【提出用】出展申込書!BG170=TRUE,1,"") | BG6: =IF(【提出用】出展申込書!BG171=TRUE,1,"") | BH6: =IF(【提出用】出展申込書!BG172=TRUE,1,"") | BI6: =IF(【提出用】出展申込書!BG173=TRUE,1,"") | BJ6: =IF(【提出用】出展申込書!BG174=TRUE,1,"") | BK6: =IF(【提出用】出展申込書!BG175=TRUE,1,"") | BL6: =IF(【提出用】出展申込書!BG176=TRUE,1,"") | BM6: =IF(【提出用】出展申込書!BG177=TRUE,1,"") | BN6: =【提出用】出展申込書!Q178 -> 0 | BO6: =【提出用】出展申込書!AO184 -> 0 | BP6: =【提出用】出展申込書!AO185 -> 0 | BQ6: =IF(【提出用】出展申込書!BG186=TRUE,1,"")
